BEGIN:VCALENDAR
VERSION:2.0
PRODID:-//BluePit Academy
CALSCALE:GREGORIAN
METHOD:PUBLISH
X-WR-CALNAME:BluePit Academy
X-ORIGINAL-URL:https://www.bluepit-academy.de/produkt/functional-trainer-kids-lvl-1-05-09-06-09-2026/
X-WR-CALDESC:Functional Trainer – Kids LVL 1 (05.09.-06.09.2026)
BEGIN:VEVENT
DTSTART;TZID=Europe/Helsinki:20260905T090000
DTEND;TZID=Europe/Helsinki:20260906T160000
SUMMARY:Functional Trainer – Kids LVL 1 (05.09.-06.09.2026)
DESCRIPTION:Die Functional Trainer Kids Ausbildung dient sowohl der Schulung von Bewegungsgrundfertigkeiten als auch der spielerischen Vermittlung von koordinativen Fähigkeiten.
URL:https://www.bluepit-academy.de/produkt/functional-trainer-kids-lvl-1-05-09-06-09-2026/
LOCATION:Doktor-Gottfried-Cremer-Allee 26/2, 50226 Frechen
END:VEVENT
END:VCALENDAR
